BEGIN:VCALENDAR
VERSION:2.0
PRODID:-//Liberty Hall Museum - ECPv5.12.4//NONSGML v1.0//EN
CALSCALE:GREGORIAN
METHOD:PUBLISH
X-WR-CALNAME:Liberty Hall Museum
X-ORIGINAL-URL:https://libertyhall.kean.edu
X-WR-CALDESC:Events for Liberty Hall Museum
REFRESH-INTERVAL;VALUE=DURATION:PT1H
X-Robots-Tag:noindex
X-PUBLISHED-TTL:PT1H
BEGIN:VTIMEZONE
TZID:America/New_York
BEGIN:DAYLIGHT
TZOFFSETFROM:-0500
TZOFFSETTO:-0400
TZNAME:EDT
DTSTART:20260308T070000
END:DAYLIGHT
BEGIN:STANDARD
TZOFFSETFROM:-0400
TZOFFSETTO:-0500
TZNAME:EST
DTSTART:20261101T060000
END:STANDARD
END:VTIMEZONE
BEGIN:VEVENT
DTSTART;TZID=America/New_York:20260311T140000
DTEND;TZID=America/New_York:20260311T160000
DTSTAMP:20260422T121715
CREATED:20260206T162724Z
LAST-MODIFIED:20260206T162724Z
UID:10379-1773237600-1773244800@libertyhall.kean.edu
SUMMARY:Colonial Afternoon Tea
DESCRIPTION:Enjoy our tremendously popular tea service as part of the 250th celebration! In the grand tradition of Susannah French Livingston\, the first lady of the house\, join Liberty Hall for its exquisite Colonial Afternoon Tea. Guests will be treated to tea\, delicious English-style cuisine\, and desserts. Including a sumptuous selection of scones\, assorted pastries\, traditional finger sandwiches\, and the freshest of fruit. Enjoy your afternoon tea on our glass porch in the main house\, overlooking our beautiful gardens. In addition to tea\, we will discuss some of the causes of the American Revolution\, particularly the Tea Act of 1773\, with a colonial tour of The Museum at Liberty Hall following this special afternoon tea. \nReservations required. Space is limited.
URL:https://libertyhall.kean.edu/events-and-performances/colonial-afternoon-tea/
LOCATION:Liberty Hall Museum\, 1003 Morris Ave.\, Union\, NJ\, 07083\, United States
ATTACH;FMTTYPE=image/png:https://libertyhall.kean.edu/wp-content/uploads/2026/02/Copy-of-Colonial-Afternoon-tea-eventbrite2160-x-1080-px-1200-x-420-px.png
END:VEVENT
END:VCALENDAR