BEGIN:VCALENDAR
VERSION:2.0
PRODID:-//Liberty Hall Museum - ECPv5.12.4//NONSGML v1.0//EN
CALSCALE:GREGORIAN
METHOD:PUBLISH
X-WR-CALNAME:Liberty Hall Museum
X-ORIGINAL-URL:https://libertyhall.kean.edu
X-WR-CALDESC:Events for Liberty Hall Museum
REFRESH-INTERVAL;VALUE=DURATION:PT1H
X-Robots-Tag:noindex
X-PUBLISHED-TTL:PT1H
BEGIN:VTIMEZONE
TZID:America/New_York
BEGIN:DAYLIGHT
TZOFFSETFROM:-0500
TZOFFSETTO:-0400
TZNAME:EDT
DTSTART:20260308T070000
END:DAYLIGHT
BEGIN:STANDARD
TZOFFSETFROM:-0400
TZOFFSETTO:-0500
TZNAME:EST
DTSTART:20261101T060000
END:STANDARD
END:VTIMEZONE
BEGIN:VEVENT
DTSTART;TZID=America/New_York:20260517T110000
DTEND;TZID=America/New_York:20260517T130000
DTSTAMP:20260422T122707
CREATED:20260210T190023Z
LAST-MODIFIED:20260210T190039Z
UID:10394-1779015600-1779022800@libertyhall.kean.edu
SUMMARY:The Real Housewives of New Jersey: Early American Women and their Kitchen Gardens
DESCRIPTION:Lesley Parness\, “The Real Housewives of New Jersey: Early American Women and their Kitchen Gardens” at Liberty Hall. As one of our many America 250th anniversary events\, learn the role women played as horticulturists and healers in early America. Discover the importance of gardens in early America through Lesley’s pictures\, presentation\, and unique teaching style. This is a lecture-style event with a Q&A session at the end. Guests will also have time to wander the herb and formal gardens after the light refreshments are served. \nLight refreshments served. \nReservations required
URL:https://libertyhall.kean.edu/events-and-performances/the-real-housewives-of-nj-early-american-women-and-their-kitchen-gardens/
LOCATION:Liberty Hall Museum\, 1003 Morris Ave.\, Union\, NJ\, 07083\, United States
CATEGORIES:For Adults
ATTACH;FMTTYPE=image/png:https://libertyhall.kean.edu/wp-content/uploads/2026/02/The-Real-Housewives-Of-NJ-Eventbrite-1200-x-420-px.png
END:VEVENT
BEGIN:VEVENT
DTSTART;TZID=America/New_York:20260517T130000
DTEND;TZID=America/New_York:20260517T140000
DTSTAMP:20260422T122707
CREATED:20240202T192246Z
LAST-MODIFIED:20260409T212141Z
UID:8280-1779022800-1779026400@libertyhall.kean.edu
SUMMARY:Bearing Witness: Uncovering the Enslaved of Liberty Hall
DESCRIPTION:Take a special tour of Liberty Hall and learn the stories of the enslaved individuals who lived and labored at the historic home and on its grounds. Using letters\, census records\, manumission contracts\, and even grave sites in Elizabeth\, uncover the stories of Abbe\, Belle\, Lambert\, Henry\, Sarah\, Peter\, and others. Learn about the ongoing research at Liberty Hall and Kean University as we give voice and narrative to the individuals who were once enslaved at this historic home. \nReservations encouraged.
URL:https://libertyhall.kean.edu/events-and-performances/uncovering-the-enslaved-tour-3/2026-05-17/
LOCATION:Liberty Hall Museum\, 1003 Morris Ave.\, Union\, NJ\, 07083\, United States
CATEGORIES:Education
ATTACH;FMTTYPE=image/png:https://libertyhall.kean.edu/wp-content/uploads/2024/02/Enslaved-Tour2160-x-1080-px-1200-x-420-px-1.png
END:VEVENT
BEGIN:VEVENT
DTSTART;TZID=America/New_York:20260517T130000
DTEND;TZID=America/New_York:20260517T143000
DTSTAMP:20260422T122707
CREATED:20260106T213355Z
LAST-MODIFIED:20260317T183158Z
UID:10306-1779022800-1779028200@libertyhall.kean.edu
SUMMARY:250th Family Fun Day: 250 Years of Medicine & Healthcare at Liberty Hall
DESCRIPTION:Celebrate America’s 250th birthday with our Liberty Learners 250th Family Fun Day series! How did colonists make their own medicines? Join Liberty Hall Museum’s Liberty Learners Adventure to discover how the residents of Liberty Hall cared for their health over the past 250 years. Through a mixture of natural remedies\, herbs\, and later commercialized medicines\, the Livingstons and the Keans managed to treat and alleviate their symptoms. Explore how medicine has evolved\, how certain healing practices are a shared human experience across generations\, and make your own colonial remedies! Join us for this family-friendly tour of Liberty Hall to compare Livingston’s natural and plant-based remedies with those used by later residents. \nReservations are suggested and recommended for grades 1st through 5th.
URL:https://libertyhall.kean.edu/events-and-performances/250th-family-fun-day-250-years-of-medicine-healthcare-at-liberty-hall/
LOCATION:Liberty Hall Museum\, 1003 Morris Ave.\, Union\, NJ\, 07083\, United States
CATEGORIES:Family,For Children
ATTACH;FMTTYPE=image/png:https://libertyhall.kean.edu/wp-content/uploads/2026/01/Copy-of-Healing-Through-History-2160-x-1080-px-1200-x-420-px.png
END:VEVENT
END:VCALENDAR