BEGIN:VCALENDAR
VERSION:2.0
PRODID:-//Liberty Hall Museum - ECPv5.12.4//NONSGML v1.0//EN
CALSCALE:GREGORIAN
METHOD:PUBLISH
X-WR-CALNAME:Liberty Hall Museum
X-ORIGINAL-URL:https://libertyhall.kean.edu
X-WR-CALDESC:Events for Liberty Hall Museum
REFRESH-INTERVAL;VALUE=DURATION:PT1H
X-Robots-Tag:noindex
X-PUBLISHED-TTL:PT1H
BEGIN:VTIMEZONE
TZID:America/New_York
BEGIN:DAYLIGHT
TZOFFSETFROM:-0500
TZOFFSETTO:-0400
TZNAME:EDT
DTSTART:20250309T070000
END:DAYLIGHT
BEGIN:STANDARD
TZOFFSETFROM:-0400
TZOFFSETTO:-0500
TZNAME:EST
DTSTART:20251102T060000
END:STANDARD
END:VTIMEZONE
BEGIN:VEVENT
DTSTART;TZID=America/New_York:20250805T110000
DTEND;TZID=America/New_York:20250805T130000
DTSTAMP:20260422T200634
CREATED:20240529T000713Z
LAST-MODIFIED:20250722T182804Z
UID:9828-1754391600-1754398800@libertyhall.kean.edu
SUMMARY:Guided Garden Tour and Boxed Lunch
DESCRIPTION:Every Tuesday this summer\, we will offer a boxed lunch add-on for our 11:00 a.m. guided garden tour. The boxed lunch will be served at Noon following the garden tour. Lunch will be served at a picnic table in our lovely garden reserved just for you! \nReservations for the boxed lunch add-on option must be made at least four (4) days in advance of the event. We will email you to select your sandwich choices once the reservation has been made.
URL:https://libertyhall.kean.edu/events-and-performances/guiden-garden-tour-and-boxed-lunch/2025-08-05/
LOCATION:Liberty Hall Museum\, 1003 Morris Ave.\, Union\, NJ\, 07083\, United States
CATEGORIES:All Ages
ATTACH;FMTTYPE=image/png:https://libertyhall.kean.edu/wp-content/uploads/2024/05/Garden-tours-and-Boxed-Lunch-2160-×-1080-px-1200-x-420-px.png
END:VEVENT
BEGIN:VEVENT
DTSTART;TZID=America/New_York:20250812T110000
DTEND;TZID=America/New_York:20250812T130000
DTSTAMP:20260422T200634
CREATED:20240529T000713Z
LAST-MODIFIED:20250722T182806Z
UID:9829-1754996400-1755003600@libertyhall.kean.edu
SUMMARY:Guided Garden Tour and Boxed Lunch
DESCRIPTION:Every Tuesday this summer\, we will offer a boxed lunch add-on for our 11:00 a.m. guided garden tour. The boxed lunch will be served at Noon following the garden tour. Lunch will be served at a picnic table in our lovely garden reserved just for you! \nReservations for the boxed lunch add-on option must be made at least four (4) days in advance of the event. We will email you to select your sandwich choices once the reservation has been made.
URL:https://libertyhall.kean.edu/events-and-performances/guiden-garden-tour-and-boxed-lunch/2025-08-12/
LOCATION:Liberty Hall Museum\, 1003 Morris Ave.\, Union\, NJ\, 07083\, United States
CATEGORIES:All Ages
ATTACH;FMTTYPE=image/png:https://libertyhall.kean.edu/wp-content/uploads/2024/05/Garden-tours-and-Boxed-Lunch-2160-×-1080-px-1200-x-420-px.png
END:VEVENT
BEGIN:VEVENT
DTSTART;TZID=America/New_York:20250819T110000
DTEND;TZID=America/New_York:20250819T130000
DTSTAMP:20260422T200634
CREATED:20240529T000713Z
LAST-MODIFIED:20250722T182807Z
UID:9830-1755601200-1755608400@libertyhall.kean.edu
SUMMARY:Guided Garden Tour and Boxed Lunch
DESCRIPTION:Every Tuesday this summer\, we will offer a boxed lunch add-on for our 11:00 a.m. guided garden tour. The boxed lunch will be served at Noon following the garden tour. Lunch will be served at a picnic table in our lovely garden reserved just for you! \nReservations for the boxed lunch add-on option must be made at least four (4) days in advance of the event. We will email you to select your sandwich choices once the reservation has been made.
URL:https://libertyhall.kean.edu/events-and-performances/guiden-garden-tour-and-boxed-lunch/2025-08-19/
LOCATION:Liberty Hall Museum\, 1003 Morris Ave.\, Union\, NJ\, 07083\, United States
CATEGORIES:All Ages
ATTACH;FMTTYPE=image/png:https://libertyhall.kean.edu/wp-content/uploads/2024/05/Garden-tours-and-Boxed-Lunch-2160-×-1080-px-1200-x-420-px.png
END:VEVENT
BEGIN:VEVENT
DTSTART;TZID=America/New_York:20250826T110000
DTEND;TZID=America/New_York:20250826T130000
DTSTAMP:20260422T200634
CREATED:20240529T000713Z
LAST-MODIFIED:20250722T182807Z
UID:9831-1756206000-1756213200@libertyhall.kean.edu
SUMMARY:Guided Garden Tour and Boxed Lunch
DESCRIPTION:Every Tuesday this summer\, we will offer a boxed lunch add-on for our 11:00 a.m. guided garden tour. The boxed lunch will be served at Noon following the garden tour. Lunch will be served at a picnic table in our lovely garden reserved just for you! \nReservations for the boxed lunch add-on option must be made at least four (4) days in advance of the event. We will email you to select your sandwich choices once the reservation has been made.
URL:https://libertyhall.kean.edu/events-and-performances/guiden-garden-tour-and-boxed-lunch/2025-08-26/
LOCATION:Liberty Hall Museum\, 1003 Morris Ave.\, Union\, NJ\, 07083\, United States
CATEGORIES:All Ages
ATTACH;FMTTYPE=image/png:https://libertyhall.kean.edu/wp-content/uploads/2024/05/Garden-tours-and-Boxed-Lunch-2160-×-1080-px-1200-x-420-px.png
END:VEVENT
BEGIN:VEVENT
DTSTART;TZID=America/New_York:20250828T190000
DTEND;TZID=America/New_York:20250828T200000
DTSTAMP:20260422T200634
CREATED:20210609T160619Z
LAST-MODIFIED:20250722T183237Z
UID:5107-1756407600-1756411200@libertyhall.kean.edu
SUMMARY:Sunset Stroll Garden Tours
DESCRIPTION:Promenade our gardens and arboretum under the backdrop of a crimson sky and setting summer sun\, and join us for a guided Sunset Stroll. Join us to learn more about our historic gardens!\n\nTickets Required.
URL:https://libertyhall.kean.edu/events-and-performances/sunset-stroll-garden-tours/
LOCATION:Liberty Hall Museum\, 1003 Morris Ave.\, Union\, NJ\, 07083\, United States
CATEGORIES:All Ages
ATTACH;FMTTYPE=image/png:https://libertyhall.kean.edu/wp-content/uploads/2024/07/Sunset-Stroll.png
END:VEVENT
END:VCALENDAR