BEGIN:VCALENDAR
VERSION:2.0
PRODID:-//Liberty Hall Museum - ECPv5.12.4//NONSGML v1.0//EN
CALSCALE:GREGORIAN
METHOD:PUBLISH
X-WR-CALNAME:Liberty Hall Museum
X-ORIGINAL-URL:https://libertyhall.kean.edu
X-WR-CALDESC:Events for Liberty Hall Museum
REFRESH-INTERVAL;VALUE=DURATION:PT1H
X-Robots-Tag:noindex
X-PUBLISHED-TTL:PT1H
BEGIN:VTIMEZONE
TZID:America/New_York
BEGIN:DAYLIGHT
TZOFFSETFROM:-0500
TZOFFSETTO:-0400
TZNAME:EDT
DTSTART:20250309T070000
END:DAYLIGHT
BEGIN:STANDARD
TZOFFSETFROM:-0400
TZOFFSETTO:-0500
TZNAME:EST
DTSTART:20251102T060000
END:STANDARD
END:VTIMEZONE
BEGIN:VEVENT
DTSTART;TZID=America/New_York:20251011T100000
DTEND;TZID=America/New_York:20251011T160000
DTSTAMP:20260422T161228
CREATED:20250916T160131Z
LAST-MODIFIED:20250916T160131Z
UID:9993-1760176800-1760198400@libertyhall.kean.edu
SUMMARY:American Revolution Encampment
DESCRIPTION:Join us in celebration of the 250th anniversary of William Livingston becoming the first Brigadier General of the New Jersey Militia. In partnership with the 3rd New Jersey Regiment\, escape to a day of discovery. Discover how we bring the American Revolution and colonial times to life. Experience reenactments and participate in family-friendly activities\, including colonial crafts and games. Step into history in our scenic gardens and arboretum. \nReservations encouraged. Walk-ins accepted.
URL:https://libertyhall.kean.edu/events-and-performances/american-revolution-encampment/
LOCATION:Liberty Hall Museum\, 1003 Morris Ave.\, Union\, NJ\, 07083\, United States
CATEGORIES:All Ages
ATTACH;FMTTYPE=image/png:https://libertyhall.kean.edu/wp-content/uploads/2025/09/Untitled-2160-x-1080-px-1200-x-420-px.png
END:VEVENT
BEGIN:VEVENT
DTSTART;TZID=America/New_York:20251018T120000
DTEND;TZID=America/New_York:20251018T170000
DTSTAMP:20260422T161228
CREATED:20220919T204214Z
LAST-MODIFIED:20250903T221353Z
UID:6163-1760788800-1760806800@libertyhall.kean.edu
SUMMARY:Four Centuries in a Weekend!
DESCRIPTION:All of the historic house museums in Union County will be open with free admission for the weekend! \nAs we continue the kick-off of the 250th celebrations\, we will be showcasing the original rooms of William Livingston’s home. Our newest exhibit\, Silver Jubilee: 25 Years of Liberty Hall Museum\, will be open for tours during this special event weekend. Tours will be scheduled on the hour. Recommended for all ages. \nVisit http://ucnj.org/4c for more information on this fantastic countywide event!
URL:https://libertyhall.kean.edu/events-and-performances/four-centuries-in-a-weekend-3/
LOCATION:Liberty Hall Museum\, 1003 Morris Ave.\, Union\, NJ\, 07083\, United States
CATEGORIES:All Ages
ATTACH;FMTTYPE=image/png:https://libertyhall.kean.edu/wp-content/uploads/2021/08/Copy-of-Copy-of-Four-Centuries.png
END:VEVENT
BEGIN:VEVENT
DTSTART;TZID=America/New_York:20251019T120000
DTEND;TZID=America/New_York:20251019T170000
DTSTAMP:20260422T161228
CREATED:20220919T204214Z
LAST-MODIFIED:20220919T204214Z
UID:9982-1760875200-1760893200@libertyhall.kean.edu
SUMMARY:Four Centuries in a Weekend!
DESCRIPTION:All of the historic house museums in Union County will be open with free admission for the weekend! \nAs we continue the kick-off of the 250th celebrations\, we will be showcasing the original rooms of William Livingston’s home. Our newest exhibit\, Silver Jubilee: 25 Years of Liberty Hall Museum\, will be open for tours during this special event weekend. Tours will be scheduled on the hour. Recommended for all ages. \nVisit http://ucnj.org/4c for more information on this fantastic countywide event!
URL:https://libertyhall.kean.edu/events-and-performances/four-centuries-in-a-weekend-3/2025-10-19/
LOCATION:Liberty Hall Museum\, 1003 Morris Ave.\, Union\, NJ\, 07083\, United States
CATEGORIES:All Ages
ATTACH;FMTTYPE=image/png:https://libertyhall.kean.edu/wp-content/uploads/2021/08/Copy-of-Copy-of-Four-Centuries.png
END:VEVENT
END:VCALENDAR