BEGIN:VCALENDAR
VERSION:2.0
PRODID:-//Liberty Hall Museum - ECPv5.12.4//NONSGML v1.0//EN
CALSCALE:GREGORIAN
METHOD:PUBLISH
X-WR-CALNAME:Liberty Hall Museum
X-ORIGINAL-URL:https://libertyhall.kean.edu
X-WR-CALDESC:Events for Liberty Hall Museum
REFRESH-INTERVAL;VALUE=DURATION:PT1H
X-Robots-Tag:noindex
X-PUBLISHED-TTL:PT1H
BEGIN:VTIMEZONE
TZID:America/New_York
BEGIN:DAYLIGHT
TZOFFSETFROM:-0500
TZOFFSETTO:-0400
TZNAME:EDT
DTSTART:20260308T070000
END:DAYLIGHT
BEGIN:STANDARD
TZOFFSETFROM:-0400
TZOFFSETTO:-0500
TZNAME:EST
DTSTART:20261101T060000
END:STANDARD
END:VTIMEZONE
BEGIN:VEVENT
DTSTART;TZID=America/New_York:20260102T110000
DTEND;TZID=America/New_York:20260102T150000
DTSTAMP:20260422T105511
CREATED:20241128T113737Z
LAST-MODIFIED:20251226T190825Z
UID:9519-1767351600-1767366000@libertyhall.kean.edu
SUMMARY:Christmas Songs: Liberty Hall Version Holiday Tours
DESCRIPTION:Jingle Bells! I’m dreaming of a White Christmas! ¡Feliz Navidad! We all have our favorite Christmas songs\, and this year\, the 1st floor of the Main House will be transformed into some of Liberty Hall’s favorite Christmas songs. Join us and see if your song made our list! \n**Please note\, tours will only be of the first floor decorated for Christmas. \nReservations suggested.
URL:https://libertyhall.kean.edu/events-and-performances/christmas-songs-liberty-hall-version-tours/
LOCATION:Liberty Hall Museum\, 1003 Morris Ave.\, Union\, NJ\, 07083\, United States
CATEGORIES:All Ages
ATTACH;FMTTYPE=image/png:https://libertyhall.kean.edu/wp-content/uploads/2024/11/Christmas-Songs-Website-1200-x-420-px.png
END:VEVENT
BEGIN:VEVENT
DTSTART;TZID=America/New_York:20260103T110000
DTEND;TZID=America/New_York:20260103T150000
DTSTAMP:20260422T105512
CREATED:20241128T113737Z
LAST-MODIFIED:20241128T113737Z
UID:10290-1767438000-1767452400@libertyhall.kean.edu
SUMMARY:Christmas Songs: Liberty Hall Version Holiday Tours
DESCRIPTION:Jingle Bells! I’m dreaming of a White Christmas! ¡Feliz Navidad! We all have our favorite Christmas songs\, and this year\, the 1st floor of the Main House will be transformed into some of Liberty Hall’s favorite Christmas songs. Join us and see if your song made our list! \n**Please note\, tours will only be of the first floor decorated for Christmas. \nReservations suggested.
URL:https://libertyhall.kean.edu/events-and-performances/christmas-songs-liberty-hall-version-tours/2026-01-03/
LOCATION:Liberty Hall Museum\, 1003 Morris Ave.\, Union\, NJ\, 07083\, United States
CATEGORIES:All Ages
ATTACH;FMTTYPE=image/png:https://libertyhall.kean.edu/wp-content/uploads/2024/11/Christmas-Songs-Website-1200-x-420-px.png
END:VEVENT
BEGIN:VEVENT
DTSTART;TZID=America/New_York:20260104T110000
DTEND;TZID=America/New_York:20260104T150000
DTSTAMP:20260422T105512
CREATED:20241128T113737Z
LAST-MODIFIED:20241128T113737Z
UID:10291-1767524400-1767538800@libertyhall.kean.edu
SUMMARY:Christmas Songs: Liberty Hall Version Holiday Tours
DESCRIPTION:Jingle Bells! I’m dreaming of a White Christmas! ¡Feliz Navidad! We all have our favorite Christmas songs\, and this year\, the 1st floor of the Main House will be transformed into some of Liberty Hall’s favorite Christmas songs. Join us and see if your song made our list! \n**Please note\, tours will only be of the first floor decorated for Christmas. \nReservations suggested.
URL:https://libertyhall.kean.edu/events-and-performances/christmas-songs-liberty-hall-version-tours/2026-01-04/
LOCATION:Liberty Hall Museum\, 1003 Morris Ave.\, Union\, NJ\, 07083\, United States
CATEGORIES:All Ages
ATTACH;FMTTYPE=image/png:https://libertyhall.kean.edu/wp-content/uploads/2024/11/Christmas-Songs-Website-1200-x-420-px.png
END:VEVENT
BEGIN:VEVENT
DTSTART;TZID=America/New_York:20260105T110000
DTEND;TZID=America/New_York:20260105T150000
DTSTAMP:20260422T105512
CREATED:20241128T113737Z
LAST-MODIFIED:20241128T113737Z
UID:10292-1767610800-1767625200@libertyhall.kean.edu
SUMMARY:Christmas Songs: Liberty Hall Version Holiday Tours
DESCRIPTION:Jingle Bells! I’m dreaming of a White Christmas! ¡Feliz Navidad! We all have our favorite Christmas songs\, and this year\, the 1st floor of the Main House will be transformed into some of Liberty Hall’s favorite Christmas songs. Join us and see if your song made our list! \n**Please note\, tours will only be of the first floor decorated for Christmas. \nReservations suggested.
URL:https://libertyhall.kean.edu/events-and-performances/christmas-songs-liberty-hall-version-tours/2026-01-05/
LOCATION:Liberty Hall Museum\, 1003 Morris Ave.\, Union\, NJ\, 07083\, United States
CATEGORIES:All Ages
ATTACH;FMTTYPE=image/png:https://libertyhall.kean.edu/wp-content/uploads/2024/11/Christmas-Songs-Website-1200-x-420-px.png
END:VEVENT
BEGIN:VEVENT
DTSTART;TZID=America/New_York:20260106T110000
DTEND;TZID=America/New_York:20260106T150000
DTSTAMP:20260422T105512
CREATED:20241128T113737Z
LAST-MODIFIED:20241128T113737Z
UID:10293-1767697200-1767711600@libertyhall.kean.edu
SUMMARY:Christmas Songs: Liberty Hall Version Holiday Tours
DESCRIPTION:Jingle Bells! I’m dreaming of a White Christmas! ¡Feliz Navidad! We all have our favorite Christmas songs\, and this year\, the 1st floor of the Main House will be transformed into some of Liberty Hall’s favorite Christmas songs. Join us and see if your song made our list! \n**Please note\, tours will only be of the first floor decorated for Christmas. \nReservations suggested.
URL:https://libertyhall.kean.edu/events-and-performances/christmas-songs-liberty-hall-version-tours/2026-01-06/
LOCATION:Liberty Hall Museum\, 1003 Morris Ave.\, Union\, NJ\, 07083\, United States
CATEGORIES:All Ages
ATTACH;FMTTYPE=image/png:https://libertyhall.kean.edu/wp-content/uploads/2024/11/Christmas-Songs-Website-1200-x-420-px.png
END:VEVENT
BEGIN:VEVENT
DTSTART;TZID=America/New_York:20260107T110000
DTEND;TZID=America/New_York:20260107T150000
DTSTAMP:20260422T105512
CREATED:20241128T113737Z
LAST-MODIFIED:20241128T113737Z
UID:10294-1767783600-1767798000@libertyhall.kean.edu
SUMMARY:Christmas Songs: Liberty Hall Version Holiday Tours
DESCRIPTION:Jingle Bells! I’m dreaming of a White Christmas! ¡Feliz Navidad! We all have our favorite Christmas songs\, and this year\, the 1st floor of the Main House will be transformed into some of Liberty Hall’s favorite Christmas songs. Join us and see if your song made our list! \n**Please note\, tours will only be of the first floor decorated for Christmas. \nReservations suggested.
URL:https://libertyhall.kean.edu/events-and-performances/christmas-songs-liberty-hall-version-tours/2026-01-07/
LOCATION:Liberty Hall Museum\, 1003 Morris Ave.\, Union\, NJ\, 07083\, United States
CATEGORIES:All Ages
ATTACH;FMTTYPE=image/png:https://libertyhall.kean.edu/wp-content/uploads/2024/11/Christmas-Songs-Website-1200-x-420-px.png
END:VEVENT
BEGIN:VEVENT
DTSTART;TZID=America/New_York:20260108T110000
DTEND;TZID=America/New_York:20260108T150000
DTSTAMP:20260422T105512
CREATED:20241128T113737Z
LAST-MODIFIED:20241128T113737Z
UID:10295-1767870000-1767884400@libertyhall.kean.edu
SUMMARY:Christmas Songs: Liberty Hall Version Holiday Tours
DESCRIPTION:Jingle Bells! I’m dreaming of a White Christmas! ¡Feliz Navidad! We all have our favorite Christmas songs\, and this year\, the 1st floor of the Main House will be transformed into some of Liberty Hall’s favorite Christmas songs. Join us and see if your song made our list! \n**Please note\, tours will only be of the first floor decorated for Christmas. \nReservations suggested.
URL:https://libertyhall.kean.edu/events-and-performances/christmas-songs-liberty-hall-version-tours/2026-01-08/
LOCATION:Liberty Hall Museum\, 1003 Morris Ave.\, Union\, NJ\, 07083\, United States
CATEGORIES:All Ages
ATTACH;FMTTYPE=image/png:https://libertyhall.kean.edu/wp-content/uploads/2024/11/Christmas-Songs-Website-1200-x-420-px.png
END:VEVENT
BEGIN:VEVENT
DTSTART;TZID=America/New_York:20260109T110000
DTEND;TZID=America/New_York:20260109T150000
DTSTAMP:20260422T105512
CREATED:20241128T113737Z
LAST-MODIFIED:20241128T113737Z
UID:10296-1767956400-1767970800@libertyhall.kean.edu
SUMMARY:Christmas Songs: Liberty Hall Version Holiday Tours
DESCRIPTION:Jingle Bells! I’m dreaming of a White Christmas! ¡Feliz Navidad! We all have our favorite Christmas songs\, and this year\, the 1st floor of the Main House will be transformed into some of Liberty Hall’s favorite Christmas songs. Join us and see if your song made our list! \n**Please note\, tours will only be of the first floor decorated for Christmas. \nReservations suggested.
URL:https://libertyhall.kean.edu/events-and-performances/christmas-songs-liberty-hall-version-tours/2026-01-09/
LOCATION:Liberty Hall Museum\, 1003 Morris Ave.\, Union\, NJ\, 07083\, United States
CATEGORIES:All Ages
ATTACH;FMTTYPE=image/png:https://libertyhall.kean.edu/wp-content/uploads/2024/11/Christmas-Songs-Website-1200-x-420-px.png
END:VEVENT
BEGIN:VEVENT
DTSTART;TZID=America/New_York:20260110T110000
DTEND;TZID=America/New_York:20260110T150000
DTSTAMP:20260422T105512
CREATED:20241128T113737Z
LAST-MODIFIED:20241128T113737Z
UID:10297-1768042800-1768057200@libertyhall.kean.edu
SUMMARY:Christmas Songs: Liberty Hall Version Holiday Tours
DESCRIPTION:Jingle Bells! I’m dreaming of a White Christmas! ¡Feliz Navidad! We all have our favorite Christmas songs\, and this year\, the 1st floor of the Main House will be transformed into some of Liberty Hall’s favorite Christmas songs. Join us and see if your song made our list! \n**Please note\, tours will only be of the first floor decorated for Christmas. \nReservations suggested.
URL:https://libertyhall.kean.edu/events-and-performances/christmas-songs-liberty-hall-version-tours/2026-01-10/
LOCATION:Liberty Hall Museum\, 1003 Morris Ave.\, Union\, NJ\, 07083\, United States
CATEGORIES:All Ages
ATTACH;FMTTYPE=image/png:https://libertyhall.kean.edu/wp-content/uploads/2024/11/Christmas-Songs-Website-1200-x-420-px.png
END:VEVENT
END:VCALENDAR