BEGIN:VCALENDAR
VERSION:2.0
PRODID:-//Liberty Hall Museum - ECPv5.12.4//NONSGML v1.0//EN
CALSCALE:GREGORIAN
METHOD:PUBLISH
X-WR-CALNAME:Liberty Hall Museum
X-ORIGINAL-URL:https://libertyhall.kean.edu
X-WR-CALDESC:Events for Liberty Hall Museum
REFRESH-INTERVAL;VALUE=DURATION:PT1H
X-Robots-Tag:noindex
X-PUBLISHED-TTL:PT1H
BEGIN:VTIMEZONE
TZID:America/New_York
BEGIN:DAYLIGHT
TZOFFSETFROM:-0500
TZOFFSETTO:-0400
TZNAME:EDT
DTSTART:20250309T070000
END:DAYLIGHT
BEGIN:STANDARD
TZOFFSETFROM:-0400
TZOFFSETTO:-0500
TZNAME:EST
DTSTART:20251102T060000
END:STANDARD
END:VTIMEZONE
BEGIN:VEVENT
DTSTART;TZID=America/New_York:20250812T110000
DTEND;TZID=America/New_York:20250812T130000
DTSTAMP:20260422T221236
CREATED:20240529T000713Z
LAST-MODIFIED:20250722T182806Z
UID:9829-1754996400-1755003600@libertyhall.kean.edu
SUMMARY:Guided Garden Tour and Boxed Lunch
DESCRIPTION:Every Tuesday this summer\, we will offer a boxed lunch add-on for our 11:00 a.m. guided garden tour. The boxed lunch will be served at Noon following the garden tour. Lunch will be served at a picnic table in our lovely garden reserved just for you! \nReservations for the boxed lunch add-on option must be made at least four (4) days in advance of the event. We will email you to select your sandwich choices once the reservation has been made.
URL:https://libertyhall.kean.edu/events-and-performances/guiden-garden-tour-and-boxed-lunch/2025-08-12/
LOCATION:Liberty Hall Museum\, 1003 Morris Ave.\, Union\, NJ\, 07083\, United States
CATEGORIES:All Ages
ATTACH;FMTTYPE=image/png:https://libertyhall.kean.edu/wp-content/uploads/2024/05/Garden-tours-and-Boxed-Lunch-2160-×-1080-px-1200-x-420-px.png
END:VEVENT
END:VCALENDAR