BEGIN:VCALENDAR
VERSION:2.0
PRODID:-//Liberty Hall Museum - ECPv5.12.4//NONSGML v1.0//EN
CALSCALE:GREGORIAN
METHOD:PUBLISH
X-WR-CALNAME:Liberty Hall Museum
X-ORIGINAL-URL:https://libertyhall.kean.edu
X-WR-CALDESC:Events for Liberty Hall Museum
REFRESH-INTERVAL;VALUE=DURATION:PT1H
X-Robots-Tag:noindex
X-PUBLISHED-TTL:PT1H
BEGIN:VTIMEZONE
TZID:America/New_York
BEGIN:DAYLIGHT
TZOFFSETFROM:-0500
TZOFFSETTO:-0400
TZNAME:EDT
DTSTART:20250309T070000
END:DAYLIGHT
BEGIN:STANDARD
TZOFFSETFROM:-0400
TZOFFSETTO:-0500
TZNAME:EST
DTSTART:20251102T060000
END:STANDARD
END:VTIMEZONE
BEGIN:VEVENT
DTSTART;TZID=America/New_York:20251221T090000
DTEND;TZID=America/New_York:20251221T230000
DTSTAMP:20260420T100646
CREATED:20211009T143842Z
LAST-MODIFIED:20251124T151158Z
UID:5396-1766307600-1766358000@libertyhall.kean.edu
SUMMARY:Breakfast with Santa
DESCRIPTION:Santa! I know him! Naughty or nice–all are welcome when Liberty Hall hosts Breakfast with Santa! Our hot breakfast buffet and games will fill you with Christmas cheer and put you in the holiday spirit. Then take a photo with the jolly old man himself in Santa’s sleigh. \nReservations required. Space is limited.
URL:https://libertyhall.kean.edu/events-and-performances/breakfast-with-santa-5/
LOCATION:Liberty Hall Museum\, 1003 Morris Ave.\, Union\, NJ\, 07083\, United States
CATEGORIES:Family
ATTACH;FMTTYPE=image/png:https://libertyhall.kean.edu/wp-content/uploads/2021/10/Copy-of-Breakfast-with-Santa-2160-x-1080-px-1200-x-420-px.png
END:VEVENT
BEGIN:VEVENT
DTSTART;TZID=America/New_York:20251221T120000
DTEND;TZID=America/New_York:20251221T140000
DTSTAMP:20260420T100646
CREATED:20211009T144234Z
LAST-MODIFIED:20251209T125240Z
UID:5399-1766318400-1766325600@libertyhall.kean.edu
SUMMARY:Breakfast with Santa: SOLD OUT!
DESCRIPTION:This event is SOLD OUT! \nSanta! I know him! Naughty or nice–all are welcome when Liberty Hall hosts Breakfast with Santa! Our hot breakfast buffet and games will fill you with Christmas cheer and put you in the holiday spirit. Then take a photo with the jolly old man himself in Santa’s sleigh. \nReservations required. Space is limited.
URL:https://libertyhall.kean.edu/events-and-performances/breakfast-with-santa-6/
LOCATION:Liberty Hall Museum\, 1003 Morris Ave.\, Union\, NJ\, 07083\, United States
CATEGORIES:Family
ATTACH;FMTTYPE=image/png:https://libertyhall.kean.edu/wp-content/uploads/2021/10/Copy-of-Breakfast-with-Santa-2160-x-1080-px-1200-x-420-px.png
END:VEVENT
END:VCALENDAR