BEGIN:VCALENDAR
VERSION:2.0
PRODID:-//Liberty Hall Museum - ECPv5.12.4//NONSGML v1.0//EN
CALSCALE:GREGORIAN
METHOD:PUBLISH
X-WR-CALNAME:Liberty Hall Museum
X-ORIGINAL-URL:https://libertyhall.kean.edu
X-WR-CALDESC:Events for Liberty Hall Museum
REFRESH-INTERVAL;VALUE=DURATION:PT1H
X-Robots-Tag:noindex
X-PUBLISHED-TTL:PT1H
BEGIN:VTIMEZONE
TZID:America/New_York
BEGIN:DAYLIGHT
TZOFFSETFROM:-0500
TZOFFSETTO:-0400
TZNAME:EDT
DTSTART:20260308T070000
END:DAYLIGHT
BEGIN:STANDARD
TZOFFSETFROM:-0400
TZOFFSETTO:-0500
TZNAME:EST
DTSTART:20261101T060000
END:STANDARD
END:VTIMEZONE
BEGIN:VEVENT
DTSTART;TZID=America/New_York:20260228T110000
DTEND;TZID=America/New_York:20260228T130000
DTSTAMP:20260420T064426
CREATED:20260120T190346Z
LAST-MODIFIED:20260210T183214Z
UID:10319-1772276400-1772283600@libertyhall.kean.edu
SUMMARY:Fun with Bluey! SOLD OUT
DESCRIPTION:**This event is SOLD OUT** Hey Mate! This episode of Bluey is called “Fun!” Join us for a fun-filled afternoon at this Bluey-themed event. Get ready to play games\, craft\, and snack just like everyone’s favorite blue Heeler and her family and friends. Make some great family memories as we bring Bluey’s world to life! \nRecommended for ages 2 to 7. Reservations are required. Space is limited.
URL:https://libertyhall.kean.edu/events-and-performances/fun-with-bluey/
LOCATION:Liberty Hall Museum\, 1003 Morris Ave.\, Union\, NJ\, 07083\, United States
CATEGORIES:Family
ATTACH;FMTTYPE=image/png:https://libertyhall.kean.edu/wp-content/uploads/2026/01/Copy-of-Bluey-Eventbrite-1200-x-420-px.png
END:VEVENT
END:VCALENDAR