BEGIN:VCALENDAR
VERSION:2.0
PRODID:-//Liberty Hall Museum - ECPv5.12.4//NONSGML v1.0//EN
CALSCALE:GREGORIAN
METHOD:PUBLISH
X-WR-CALNAME:Liberty Hall Museum
X-ORIGINAL-URL:https://libertyhall.kean.edu
X-WR-CALDESC:Events for Liberty Hall Museum
REFRESH-INTERVAL;VALUE=DURATION:PT1H
X-Robots-Tag:noindex
X-PUBLISHED-TTL:PT1H
BEGIN:VTIMEZONE
TZID:America/New_York
BEGIN:DAYLIGHT
TZOFFSETFROM:-0500
TZOFFSETTO:-0400
TZNAME:EDT
DTSTART:20190310T070000
END:DAYLIGHT
BEGIN:STANDARD
TZOFFSETFROM:-0400
TZOFFSETTO:-0500
TZNAME:EST
DTSTART:20191103T060000
END:STANDARD
BEGIN:DAYLIGHT
TZOFFSETFROM:-0500
TZOFFSETTO:-0400
TZNAME:EDT
DTSTART:20200308T070000
END:DAYLIGHT
BEGIN:STANDARD
TZOFFSETFROM:-0400
TZOFFSETTO:-0500
TZNAME:EST
DTSTART:20201101T060000
END:STANDARD
END:VTIMEZONE
BEGIN:VEVENT
DTSTART;TZID=America/New_York:20200808T120000
DTEND;TZID=America/New_York:20200808T150000
DTSTAMP:20260420T224907
CREATED:20200117T000148Z
LAST-MODIFIED:20200506T154035Z
UID:2153-1596888000-1596898800@libertyhall.kean.edu
SUMMARY:Downton Abbey Luncheon - NEW DATE!
DESCRIPTION:**With the postponement of this event\, no refunds will be offered at this time. This date is tentative and if needed\, we will reassess the running of the Downton Abbey Luncheon as this date gets closer. We’ve already taken several precautions to ensure the health and safety of our visitors and employees –  we have made the decision to not have this luncheon buffet style and moved the location within the museum grounds to continue with social distancing. We will adhere to the guidelines set forth by the CDC and/or the NJ Department of Health at that time.\n\n\nIn the meantime\, should you have additional questions or wish to speak with a Liberty Hall representative\, please contact us at libertyhall@kean.edu.**   \n\n***As of February 24\, 2020\, this Downton Abbey Luncheon is SOLD OUT!*** \nJoin us as we step back in time to the 1920s at Downton Abbey and experience a luncheon like the Crawley family at Liberty Hall Museum! Enjoy a mouthwatering luncheon buffet with a tour of Liberty Hall Museum following.
URL:https://libertyhall.kean.edu/events-and-performances/downton-abbey-luncheon-2/
LOCATION:1003 Morris Ave.\, Union\, NJ\, 07083\, United States
CATEGORIES:For Adults
ATTACH;FMTTYPE=image/png:https://libertyhall.kean.edu/wp-content/uploads/2020/01/downton-abbey-luncheon.png
END:VEVENT
BEGIN:VEVENT
DTSTART;TZID=America/New_York:20200729T183000
DTEND;TZID=America/New_York:20200729T203000
DTSTAMP:20260420T224907
CREATED:20200305T192043Z
LAST-MODIFIED:20200305T192043Z
UID:2264-1596047400-1596054600@libertyhall.kean.edu
SUMMARY:Uncork History: Prohibition
DESCRIPTION:Enjoy our summer series in the garden and join us for Uncork History: Prohibition. We hope you get the “password” to join us in our discussion on the 18th Amendment. Afterwards\, relax in our historic gardens with wine and finger foods. It’s perfect for a summer date night or a night with friends! Must be 21 years or older to attend.
URL:https://libertyhall.kean.edu/events-and-performances/uncork-history-prohibition/
LOCATION:1003 Morris Ave.\, Union\, NJ\, 07083\, United States
CATEGORIES:For Adults
ATTACH;FMTTYPE=image/png:https://libertyhall.kean.edu/wp-content/uploads/2020/03/uncork-history-prohib.-1.png
END:VEVENT
BEGIN:VEVENT
DTSTART;TZID=America/New_York:20200724T190000
DTEND;TZID=America/New_York:20200724T210000
DTSTAMP:20260420T224907
CREATED:20191219T024944Z
LAST-MODIFIED:20200721T154258Z
UID:1862-1595617200-1595624400@libertyhall.kean.edu
SUMMARY:Ladies' Night Out: A Night of Vintage Fashion! NEW DATE!
DESCRIPTION:Grab some your closet friends and join us for a fashion-forward ladies’ night at Liberty Hall! You’ll be treated to wine and cheese while enjoying an exclusive viewing of Liberty Hall Museum’s exquisite collection of vintage clothing and accessories. Next\, stick around for an informative and entertaining talk on the fashion collection at Liberty Hall!
URL:https://libertyhall.kean.edu/events-and-performances/ladies-night-out-a-night-of-vintage-fashion/
LOCATION:1003 Morris Ave.\, Union\, NJ\, 07083\, United States
CATEGORIES:For Adults
ATTACH;FMTTYPE=image/png:https://libertyhall.kean.edu/wp-content/uploads/2019/12/Blank-1200-x-420-4.png
END:VEVENT
BEGIN:VEVENT
DTSTART;TZID=America/New_York:20200624T183000
DTEND;TZID=America/New_York:20200624T203000
DTSTAMP:20260420T224907
CREATED:20200117T230330Z
LAST-MODIFIED:20200303T164733Z
UID:2167-1593023400-1593030600@libertyhall.kean.edu
SUMMARY:Uncork History: Love Letters
DESCRIPTION:Enjoy our summer series in the garden\, join us for Uncork History: Love Letters. In an age of online dating and texting\, come read some correspondence from the Livingston and Kean family members and their significant others. Afterwards\, relax in our historic gardens with wine and finger foods. It’s a perfect for a summer date night or a night out with friends! Must be 21 years or older to attend.
URL:https://libertyhall.kean.edu/events-and-performances/uncork-history-love-letters/
LOCATION:1003 Morris Ave.\, Union\, NJ\, 07083\, United States
CATEGORIES:For Adults
ATTACH;FMTTYPE=image/png:https://libertyhall.kean.edu/wp-content/uploads/2020/01/uncork-history-love.png
END:VEVENT
BEGIN:VEVENT
DTSTART;TZID=America/New_York:20200617T183000
DTEND;TZID=America/New_York:20200617T203000
DTSTAMP:20260420T224907
CREATED:20200117T001327Z
LAST-MODIFIED:20200604T173830Z
UID:2158-1592418600-1592425800@libertyhall.kean.edu
SUMMARY:Uncork History: Roaring Twenties - NEW DATE (SOLD OUT)
DESCRIPTION:**This Uncork History event is SOLD OUT as of June 3\, 2020** \nTo kick off our summer series in the garden\, join us for Uncork History: Roaring Twenties! Learn about what was happening in America in the 1920s – think flappers\, the Charleston and much more! Afterwards\, relax in our historic gardens with wine and finger foods. It’s a perfect for a summer date night or a night out with friends! Must be 21 years or older to attend.
URL:https://libertyhall.kean.edu/events-and-performances/uncork-history-roaring-twenties/
LOCATION:1003 Morris Ave.\, Union\, NJ\, 07083\, United States
CATEGORIES:For Adults
ATTACH;FMTTYPE=image/png:https://libertyhall.kean.edu/wp-content/uploads/2020/01/Blank-1200-x-420-8.png
END:VEVENT
BEGIN:VEVENT
DTSTART;TZID=America/New_York:20200314T190000
DTEND;TZID=America/New_York:20200314T230000
DTSTAMP:20260420T224907
CREATED:20200117T191737Z
LAST-MODIFIED:20200303T164009Z
UID:2162-1584212400-1584226800@libertyhall.kean.edu
SUMMARY:NJ Paranormal Ghost Tours at Liberty Hall - SOLD OUT!
DESCRIPTION:**As of 1/18/2020 this session of NJ Paranormal Ghost Tours is SOLD OUT!** \nBefore Liberty Hall Museum was a museum\, it was a home for over 250 years—where many members of the Livingston and Kean families both were born and died. Since Liberty Hall became a museum\, staff and visitors alike have experienced unexplainable events—conversations when no one is present\, bells ringing for absent servants\, full body apparitions that seem to suddenly vanish. Is it William Livingston or a member of the Livingston or Kean family who has never moved on? Is it a long lost child returning home to visit? Are you ready to find out? The experts at New Jersey Paranormal are coming to Liberty Hall Museum for a four-hour event like no other! Experience the paranormal like never before with New Jersey Paranormal’s team of experts as they use various theories and methods to try to communicate and connect with whomever roams the historic rooms of Liberty Hall! Must be 18 or older to attend.
URL:https://libertyhall.kean.edu/events-and-performances/nj-paranormal-ghost-tours-at-liberty-hall/
LOCATION:1003 Morris Ave.\, Union\, NJ\, 07083\, United States
CATEGORIES:For Adults
ATTACH;FMTTYPE=image/png:https://libertyhall.kean.edu/wp-content/uploads/2020/01/Blank-1200-x-420-9.png
END:VEVENT
BEGIN:VEVENT
DTSTART;TZID=America/New_York:20200305T080000
DTEND;TZID=America/New_York:20200305T170000
DTSTAMP:20260420T224907
CREATED:20200305T193038Z
LAST-MODIFIED:20200305T193038Z
UID:2269-1583395200-1583427600@libertyhall.kean.edu
SUMMARY:Uncork History: Women's Suffrage
DESCRIPTION:Enjoy our summer series in the garden and join us for Uncork History: Women’s Suffrage! This August marks the 100th anniversary of the passing of the 19th Amendment. Come learn about the women’s suffrage and the Kean family. Afterwards\, relax in our historic gardens with wine and finger foods. It’s perfect for a summer date night or night with friends! Must be 21 years old or older to attend.
URL:https://libertyhall.kean.edu/events-and-performances/uncork-history-womens-suffrage/
LOCATION:1003 Morris Ave.\, Union\, NJ\, 07083\, United States
CATEGORIES:For Adults
ATTACH;FMTTYPE=image/png:https://libertyhall.kean.edu/wp-content/uploads/2020/03/uncork-history-w.s-1-1.png
END:VEVENT
BEGIN:VEVENT
DTSTART;TZID=America/New_York:20191213T140000
DTEND;TZID=America/New_York:20191213T160000
DTSTAMP:20260420T224907
CREATED:20191016T000116Z
LAST-MODIFIED:20191116T001110Z
UID:1460-1576245600-1576252800@libertyhall.kean.edu
SUMMARY:Adult Gingerbread House Workshop
DESCRIPTION:*As of 10/31/19 this session of Adult Gingerbread is SOLD OUT!* \n  \nEnjoy cocktails & decorate a gingerbread house! Come out for a relaxing evening\, and leave some of your holiday stress behind and indulge your creative inner child to your heart’s content! We provide the assembled gingerbread house\, icing and all of the candy you could ever want to create your dream house come true! Also\, wear your best Ugly Sweater and win a prize!! We’ll play some holiday music too while you enjoy wine\, beer and light snacks.
URL:https://libertyhall.kean.edu/events-and-performances/adult-gingerbread-house-workshop/2019-12-13/
LOCATION:1003 Morris Ave.\, Union\, NJ\, 07083\, United States
CATEGORIES:For Adults
ATTACH;FMTTYPE=image/jpeg:https://libertyhall.kean.edu/wp-content/uploads/2019/10/adult-gingerbread-house-new-1.jpg
ORGANIZER;CN="Rachael%20Goldberg":MAILTO:ragoldberg@kean.edu
END:VEVENT
BEGIN:VEVENT
DTSTART;TZID=America/New_York:20191212T090000
DTEND;TZID=America/New_York:20191212T110000
DTSTAMP:20260420T224907
CREATED:20190827T035513Z
LAST-MODIFIED:20191116T001029Z
UID:847-1576141200-1576148400@libertyhall.kean.edu
SUMMARY:Holiday Afternoon Tea
DESCRIPTION:***This event is SOLD OUT*** \n  \nBack for the holiday season! In the grand tradition of Mary Alice Kean\, the last lady of the house\, join Liberty Hall for its exquisite Afternoon Tea\, served every week in the month of December. Our tremendously popular tea service\, which includes a sumptuous selection of scones\, assorted pastries\, traditional finger sandwiches\, and the freshest of fruit\, concludes with an intimate\, guided tour of the museum decorated for Christmas.
URL:https://libertyhall.kean.edu/events-and-performances/holiday-afternoon-tea/2019-12-12/
LOCATION:Main House\, 1003 Morris Ave.\, Union\, NJ\, 07083\, United States
CATEGORIES:For Adults
ATTACH;FMTTYPE=image/jpeg:https://libertyhall.kean.edu/wp-content/uploads/2019/08/holiday-tea.jpg
END:VEVENT
BEGIN:VEVENT
DTSTART;TZID=America/New_York:20191211T090000
DTEND;TZID=America/New_York:20191211T110000
DTSTAMP:20260420T224907
CREATED:20191020T205416Z
LAST-MODIFIED:20191020T205416Z
UID:1492-1576054800-1576062000@libertyhall.kean.edu
SUMMARY:Holiday Afternoon Tea
DESCRIPTION:Back for the holiday season! In the grand tradition of Mary Alice Kean\, the last lady of the house\, join Liberty Hall for its exquisite Afternoon Tea\, served every week in the month of December. Our tremendously popular tea service\, which includes a sumptuous selection of scones\, assorted pastries\, traditional finger sandwiches\, and the freshest of fruit\, concludes with an intimate\, guided tour of the museum decorated for Christmas.
URL:https://libertyhall.kean.edu/events-and-performances/holiday-afternoon-tea-5/
LOCATION:1003 Morris Ave.\, Union\, NJ\, 07083\, United States
CATEGORIES:For Adults
ATTACH;FMTTYPE=image/jpeg:https://libertyhall.kean.edu/wp-content/uploads/2019/08/holiday-tea.jpg
ORGANIZER;CN="Rachael%20Goldberg":MAILTO:ragoldberg@kean.edu
END:VEVENT
BEGIN:VEVENT
DTSTART;TZID=America/New_York:20191210T140000
DTEND;TZID=America/New_York:20191210T160000
DTSTAMP:20260420T224907
CREATED:20191015T232819Z
LAST-MODIFIED:20191205T030150Z
UID:1451-1575986400-1575993600@libertyhall.kean.edu
SUMMARY:Holiday Afternoon Tea
DESCRIPTION:***This event is SOLD OUT*** \n  \nBack for the holiday season! In the grand tradition of Mary Alice Kean\, the last lady of the house\, join Liberty Hall for its exquisite Afternoon Tea\, served every week in the month of December.  Our tremendously popular tea service includes a sumptuous selection of scones\, assorted pastries\, traditional finger sandwiches\, and the freshest of fruit\, concludes with an intimate\, guided tour of the museum decorated for Christmas.
URL:https://libertyhall.kean.edu/events-and-performances/holiday-afternoon-tea-4/
LOCATION:1003 Morris Ave.\, Union\, NJ\, 07083\, United States
CATEGORIES:For Adults
ATTACH;FMTTYPE=image/jpeg:https://libertyhall.kean.edu/wp-content/uploads/2019/08/holiday-tea.jpg
ORGANIZER;CN="Rachael%20Goldberg":MAILTO:ragoldberg@kean.edu
END:VEVENT
BEGIN:VEVENT
DTSTART;TZID=America/New_York:20191207T200000
DTEND;TZID=America/New_York:20191207T220000
DTSTAMP:20260420T224907
CREATED:20191011T233148Z
LAST-MODIFIED:20191206T200921Z
UID:1429-1575748800-1575756000@libertyhall.kean.edu
SUMMARY:Harry Potter Yule Ball
DESCRIPTION:We hope you’re in fourth-year or above because the “Yule Ball is approaching – a traditional part of the Triwizard Tournament!” Join us as celebrate the holiday season at Hogwarts as we dance to wizard pop and enjoy yummy butter beer. It’s sure to be a wizarding good time! Must be 21 years or older to attend.
URL:https://libertyhall.kean.edu/events-and-performances/harry-potter-yule-ball-2/
LOCATION:1003 Morris Ave.\, Union\, NJ\, 07083\, United States
CATEGORIES:For Adults
ATTACH;FMTTYPE=image/jpeg:https://libertyhall.kean.edu/wp-content/uploads/2019/10/hp-yule-ball-1.jpg
END:VEVENT
BEGIN:VEVENT
DTSTART;TZID=America/New_York:20191205T090000
DTEND;TZID=America/New_York:20191205T110000
DTSTAMP:20260420T224907
CREATED:20191015T232657Z
LAST-MODIFIED:20191116T000729Z
UID:1448-1575536400-1575543600@libertyhall.kean.edu
SUMMARY:Holiday Afternoon Tea
DESCRIPTION:***This event is SOLD OUT*** \n  \nBack for the holiday season! In the grand tradition of Mary Alice Kean\, the last lady of the house\, join Liberty Hall for its exquisite Afternoon Tea\, served every week in the month of December.  Our tremendously popular tea service includes a sumptuous selection of scones\, assorted pastries\, traditional finger sandwiches\, and the freshest of fruit\, concludes with an intimate\, guided tour of the museum decorated for Christmas.
URL:https://libertyhall.kean.edu/events-and-performances/holiday-afternoon-tea-3/
LOCATION:1003 Morris Ave.\, Union\, NJ\, 07083\, United States
CATEGORIES:For Adults
ATTACH;FMTTYPE=image/jpeg:https://libertyhall.kean.edu/wp-content/uploads/2019/08/holiday-tea.jpg
ORGANIZER;CN="Rachael%20Goldberg":MAILTO:ragoldberg@kean.edu
END:VEVENT
BEGIN:VEVENT
DTSTART;TZID=America/New_York:20191204T140000
DTEND;TZID=America/New_York:20191204T160000
DTSTAMP:20260420T224907
CREATED:20191029T000607Z
LAST-MODIFIED:20191203T200949Z
UID:1500-1575468000-1575475200@libertyhall.kean.edu
SUMMARY:Holiday Afternoon Tea
DESCRIPTION:***This event is SOLD OUT*** \n  \nBack for the holiday season! In the grand tradition of Mary Alice Kean\, the last lady of the house\, join Liberty Hall for its exquisite Afternoon Tea\, served every week in the month of December. Our tremendously popular tea service includes a sumptuous selection of scones\, assorted pastries\, traditional finger sandwiches\, and the freshest of fruit\, concludes with an intimate\, guided tour of the museum decorated for Christmas.
URL:https://libertyhall.kean.edu/events-and-performances/1500/
LOCATION:1003 Morris Ave.\, Union\, NJ\, 07083\, United States
CATEGORIES:For Adults
ATTACH;FMTTYPE=image/jpeg:https://libertyhall.kean.edu/wp-content/uploads/2019/08/holiday-tea.jpg
ORGANIZER;CN="Rachael%20Goldberg":MAILTO:ragoldberg@kean.edu
END:VEVENT
BEGIN:VEVENT
DTSTART;TZID=America/New_York:20191203T090000
DTEND;TZID=America/New_York:20191203T110000
DTSTAMP:20260420T224907
CREATED:20191015T232459Z
LAST-MODIFIED:20191116T000632Z
UID:1446-1575363600-1575370800@libertyhall.kean.edu
SUMMARY:Holiday Afternoon Tea
DESCRIPTION:***This event is SOLD OUT*** \n  \nBack for the holiday season! In the grand tradition of Mary Alice Kean\, the last lady of the house\, join Liberty Hall for its exquisite Afternoon Tea\, served every week in the month of December.  Our tremendously popular tea service includes a sumptuous selection of scones\, assorted pastries\, traditional finger sandwiches\, and the freshest of fruit\, concludes with an intimate\, guided tour of the museum decorated for Christmas.
URL:https://libertyhall.kean.edu/events-and-performances/holiday-afternoon-tea-2/
LOCATION:NJ\, United States
CATEGORIES:For Adults
ATTACH;FMTTYPE=image/jpeg:https://libertyhall.kean.edu/wp-content/uploads/2019/08/holiday-tea.jpg
ORGANIZER;CN="Rachael%20Goldberg":MAILTO:ragoldberg@kean.edu
END:VEVENT
BEGIN:VEVENT
DTSTART;TZID=America/New_York:20191025T170000
DTEND;TZID=America/New_York:20191025T183000
DTSTAMP:20260420T224907
CREATED:20191008T230724Z
LAST-MODIFIED:20191008T233304Z
UID:1392-1572022800-1572028200@libertyhall.kean.edu
SUMMARY:Candlelit Ghost Tour
DESCRIPTION:Join us for a spine-tingling tour of Liberty Hall Museum\, after hours! Museum staff will share their own paranormal experiences with you before embarking on a guided\, candlelit tour of the museum. Perhaps you’ll even come away with your own ghost stories! Light refreshments will be served; space is limited and fills quickly\, so make your reservation today!
URL:https://libertyhall.kean.edu/events-and-performances/candlelit-ghost-tour/
LOCATION:Main House\, 1003 Morris Ave.\, Union\, NJ\, 07083\, United States
CATEGORIES:For Adults
ATTACH;FMTTYPE=image/jpeg:https://libertyhall.kean.edu/wp-content/uploads/2019/08/Untitled.jpg
ORGANIZER;CN="Rachael%20Goldberg":MAILTO:ragoldberg@kean.edu
END:VEVENT
BEGIN:VEVENT
DTSTART;TZID=America/New_York:20191025T150000
DTEND;TZID=America/New_York:20191025T163000
DTSTAMP:20260420T224907
CREATED:20191008T230447Z
LAST-MODIFIED:20191008T233224Z
UID:1388-1572015600-1572021000@libertyhall.kean.edu
SUMMARY:Candlelit Ghost Tour
DESCRIPTION:Join us for a spine-tingling tour of Liberty Hall Museum\, after hours! Museum staff will share their own paranormal experiences with you before embarking on a guided\, candlelit tour of the museum. Perhaps you’ll even come away with your own ghost stories! Light refreshments will be served; space is limited and fills quickly\, so make your reservation today!
URL:https://libertyhall.kean.edu/events-and-performances/candlit-ghost-tour/
LOCATION:Main House\, 1003 Morris Ave.\, Union\, NJ\, 07083\, United States
CATEGORIES:Family,For Adults
ATTACH;FMTTYPE=image/jpeg:https://libertyhall.kean.edu/wp-content/uploads/2019/08/Untitled.jpg
ORGANIZER;CN="Rachael%20Goldberg":MAILTO:ragoldberg@kean.edu
END:VEVENT
BEGIN:VEVENT
DTSTART;TZID=America/New_York:20191024T150000
DTEND;TZID=America/New_York:20191024T170000
DTSTAMP:20260420T224907
CREATED:20190827T035513Z
LAST-MODIFIED:20191008T223824Z
UID:822-1571929200-1571936400@libertyhall.kean.edu
SUMMARY:Adult Pumpkin Carving Party
DESCRIPTION:Pumpkins beware – we’re hosting an adult pumpkin carving party! Join us\, if you’ve got the guts. Get ready to enjoy a fall night out with friends carving & decorating pumpkins\, snacks and wine and beer! We’ll have Halloween music playing and prizes for the most creative pumpkin design! Must be 21 years or older to attend.  Admission includes pumpkin\, carving materials and refreshments. Please note that reservations required by October 18. 
URL:https://libertyhall.kean.edu/events-and-performances/adult-pumpkin-carving-party/
LOCATION:Main House\, 1003 Morris Ave.\, Union\, NJ\, 07083\, United States
CATEGORIES:For Adults
ATTACH;FMTTYPE=image/jpeg:https://libertyhall.kean.edu/wp-content/uploads/2019/08/New-adult-pumpkin.jpg
ORGANIZER;CN="Rachael%20Goldberg":MAILTO:ragoldberg@kean.edu
END:VEVENT
BEGIN:VEVENT
DTSTART;TZID=America/New_York:20191018T170000
DTEND;TZID=America/New_York:20191018T183000
DTSTAMP:20260420T224907
CREATED:20191004T231115Z
LAST-MODIFIED:20191008T233240Z
UID:1370-1571418000-1571423400@libertyhall.kean.edu
SUMMARY:Candlelit Ghost Tours
DESCRIPTION:Join us for a spine-tingling tour of Liberty Hall Museum\, after hours! Museum staff will share their own paranormal experiences with you before embarking on a guided\, candlelit tour of the museum. Perhaps you’ll even come away with your own ghost stories! Light refreshments will be served; space is limited and fills quickly\, so make your reservation today! 
URL:https://libertyhall.kean.edu/events-and-performances/candlelit-ghost-tours/
LOCATION:Main House\, 1003 Morris Ave.\, Union\, NJ\, 07083\, United States
CATEGORIES:For Adults
ATTACH;FMTTYPE=image/jpeg:https://libertyhall.kean.edu/wp-content/uploads/2019/08/Untitled.jpg
END:VEVENT
BEGIN:VEVENT
DTSTART;TZID=America/New_York:20191018T150000
DTEND;TZID=America/New_York:20191018T163000
DTSTAMP:20260420T224907
CREATED:20190827T035513Z
LAST-MODIFIED:20191008T233120Z
UID:800-1571410800-1571416200@libertyhall.kean.edu
SUMMARY:Candlelit Ghost Tours
DESCRIPTION:Join us for a spine-tingling tour of Liberty Hall Museum\, after hours! Museum staff will share their own paranormal experiences with you before embarking on a guided\, candlelit tour of the museum. Perhaps you’ll even come away with your own ghost stories! Light refreshments will be served; space is limited and fills quickly\, so make your reservation today! 
URL:https://libertyhall.kean.edu/events-and-performances/ghost-tours/2019-10-18/
LOCATION:Main House\, 1003 Morris Ave.\, Union\, NJ\, 07083\, United States
CATEGORIES:Family,For Adults
ATTACH;FMTTYPE=image/jpeg:https://libertyhall.kean.edu/wp-content/uploads/2019/08/Untitled.jpg
END:VEVENT
BEGIN:VEVENT
DTSTART;TZID=America/New_York:20190908T100000
DTEND;TZID=America/New_York:20190908T123000
DTSTAMP:20260420T224907
CREATED:20190826T205523Z
LAST-MODIFIED:20190919T061948Z
UID:781-1567936800-1567945800@libertyhall.kean.edu
SUMMARY:Afternoon Tea in the Gardens
DESCRIPTION:Back by popular demand\, enjoy our tremendously popular tea service outside in our beautiful gardens! In the grand tradition of Mary Alice (Barney) Kean\, the last lady of the house\, join Liberty Hall Museum and Academic Center for its exquisite Afternoon Tea. The tea includes a scrumptious selection of scones\, assorted pastries\, traditional finger sandwiches\, and the freshest of fruit. As you enjoy your afternoon tea experience\, relax beside our beautiful rose garden and take in our breathtaking views. A tour of the Liberty Hall Museum and Academic Center mansion including our celebrated exhibit\, “History in a Bottle!” follows the tea. \nPlease note that reservations are required by September 1st. \n\ntest 1\ntest 2
URL:https://libertyhall.kean.edu/events-and-performances/afternoon-tea-in-the-gardens/
LOCATION:Liberty Hall Gardens\, 1003 Morris Ave.\, Union\, NJ\, 07083\, United States
CATEGORIES:For Adults
ATTACH;FMTTYPE=image/jpeg:https://libertyhall.kean.edu/wp-content/uploads/2019/08/Tea-in-the-gardens-cropped.jpg
ORGANIZER;CN="Rachael%20Goldberg":MAILTO:ragoldberg@kean.edu
END:VEVENT
END:VCALENDAR