BEGIN:VCALENDAR
VERSION:2.0
PRODID:-//Liberty Hall Museum - ECPv5.12.4//NONSGML v1.0//EN
CALSCALE:GREGORIAN
METHOD:PUBLISH
X-WR-CALNAME:Liberty Hall Museum
X-ORIGINAL-URL:https://libertyhall.kean.edu
X-WR-CALDESC:Events for Liberty Hall Museum
REFRESH-INTERVAL;VALUE=DURATION:PT1H
X-Robots-Tag:noindex
X-PUBLISHED-TTL:PT1H
BEGIN:VTIMEZONE
TZID:America/New_York
BEGIN:DAYLIGHT
TZOFFSETFROM:-0500
TZOFFSETTO:-0400
TZNAME:EDT
DTSTART:20260308T070000
END:DAYLIGHT
BEGIN:STANDARD
TZOFFSETFROM:-0400
TZOFFSETTO:-0500
TZNAME:EST
DTSTART:20261101T060000
END:STANDARD
END:VTIMEZONE
BEGIN:VEVENT
DTSTART;TZID=America/New_York:20260607T140000
DTEND;TZID=America/New_York:20260607T160000
DTSTAMP:20260422T122707
CREATED:20250505T195203Z
LAST-MODIFIED:20260328T172657Z
UID:9779-1780840800-1780848000@libertyhall.kean.edu
SUMMARY:Afternoon Tea in the Gardens
DESCRIPTION:Back by popular demand\, enjoy our tremendously popular tea service outside in our beautiful gardens! In the grand tradition of Mrs. Susannah French Livingston\, the first lady of the house\, join Liberty Hall for its exquisite Afternoon Tea. The tea includes a sumptuous selection of scones\, assorted pastries\, traditional finger sandwiches\, and the freshest of fruit. As you enjoy your afternoon tea experience\, relax beside our beautiful garden and take in our breathtaking views. A 1st-floor tour of The Museum at Liberty Hall\, featuring a “Colonial Garden Tour\,” follows the tea. \nReservations required.
URL:https://libertyhall.kean.edu/events-and-performances/afternoon-tea-in-the-gardens-4/
LOCATION:Liberty Hall Museum\, 1003 Morris Ave.\, Union\, NJ\, 07083\, United States
CATEGORIES:For Adults
ATTACH;FMTTYPE=image/png:https://libertyhall.kean.edu/wp-content/uploads/2022/04/Copy-of-Tea-in-the-Gardens-2022-1200-×-420-px.png
END:VEVENT
BEGIN:VEVENT
DTSTART;TZID=America/New_York:20260614T130000
DTEND;TZID=America/New_York:20260614T140000
DTSTAMP:20260422T122707
CREATED:20240404T182732Z
LAST-MODIFIED:20240404T182732Z
UID:10835-1781442000-1781445600@libertyhall.kean.edu
SUMMARY:Architecture Tour of Liberty Hall
DESCRIPTION:Liberty Hall has witnessed over 250 years of American and New Jersey history. Over that time\, the main house has undergone many changes\, from its original 14-room building to the current 50-room structure. Join us on the second Sunday of the month for a special architecture tour that explores the many changes to the main house and the architectural styles of the time. \nReservations suggested; walk-ins welcome. \n 
URL:https://libertyhall.kean.edu/events-and-performances/architecture-tour-of-liberty-hall/2026-06-14/
LOCATION:Liberty Hall Museum\, 1003 Morris Ave.\, Union\, NJ\, 07083\, United States
CATEGORIES:All Ages
ATTACH;FMTTYPE=image/png:https://libertyhall.kean.edu/wp-content/uploads/2024/04/Architecture-Tour-2160-x-1080-px-1200-x-420-px.png
END:VEVENT
BEGIN:VEVENT
DTSTART;TZID=America/New_York:20260621T130000
DTEND;TZID=America/New_York:20260621T140000
DTSTAMP:20260422T122707
CREATED:20240202T192246Z
LAST-MODIFIED:20240202T192246Z
UID:10857-1782046800-1782050400@libertyhall.kean.edu
SUMMARY:Bearing Witness: Uncovering the Enslaved of Liberty Hall
DESCRIPTION:Take a special tour of Liberty Hall and learn the stories of the enslaved individuals who lived and labored at the historic home and on its grounds. Using letters\, census records\, manumission contracts\, and even grave sites in Elizabeth\, uncover the stories of Abbe\, Belle\, Lambert\, Henry\, Sarah\, Peter\, and others. Learn about the ongoing research at Liberty Hall and Kean University as we give voice and narrative to the individuals who were once enslaved at this historic home. \nReservations encouraged.
URL:https://libertyhall.kean.edu/events-and-performances/uncovering-the-enslaved-tour-3/2026-06-21/
LOCATION:Liberty Hall Museum\, 1003 Morris Ave.\, Union\, NJ\, 07083\, United States
CATEGORIES:Education
ATTACH;FMTTYPE=image/png:https://libertyhall.kean.edu/wp-content/uploads/2024/02/Enslaved-Tour2160-x-1080-px-1200-x-420-px-1.png
END:VEVENT
BEGIN:VEVENT
DTSTART;TZID=America/New_York:20260628T130000
DTEND;TZID=America/New_York:20260628T140000
DTSTAMP:20260422T122707
CREATED:20250325T155858Z
LAST-MODIFIED:20250325T155858Z
UID:10854-1782651600-1782655200@libertyhall.kean.edu
SUMMARY:Ladies of Liberty Hall Tour
DESCRIPTION:From Susan Livingston\, daughter of Governor Livingston\, whose daring exploits saved Liberty Hall from the British during the Revolutionary War\, to Abbe\, an enslaved woman who attempted to self-emancipate (free herself)\, to Mary Alice Barney Kean\, who worked tirelessly for the preservation of our historic structures\, the ladies of Liberty Hall have played an important role in the history of our community and our nation. This special tour of Liberty Hall\, held on the fourth Sunday of the month\, highlights the incredible women who lived and labored in this historic home. \nReservations suggested; walk-ins welcome.
URL:https://libertyhall.kean.edu/events-and-performances/ladies-of-liberty-hall-tour/2026-06-28/
LOCATION:Liberty Hall Museum\, 1003 Morris Ave.\, Union\, NJ\, 07083\, United States
CATEGORIES:All Ages
ATTACH;FMTTYPE=image/jpeg:https://libertyhall.kean.edu/wp-content/uploads/2025/03/Ladies-of-Liberty-Hall-tours-Eventbrite-Banner-1200-x-420-px.jpg
END:VEVENT
END:VCALENDAR