BEGIN:VCALENDAR
VERSION:2.0
PRODID:-//Liberty Hall Museum - ECPv5.12.4//NONSGML v1.0//EN
CALSCALE:GREGORIAN
METHOD:PUBLISH
X-WR-CALNAME:Liberty Hall Museum
X-ORIGINAL-URL:https://libertyhall.kean.edu
X-WR-CALDESC:Events for Liberty Hall Museum
REFRESH-INTERVAL;VALUE=DURATION:PT1H
X-Robots-Tag:noindex
X-PUBLISHED-TTL:PT1H
BEGIN:VTIMEZONE
TZID:America/New_York
BEGIN:DAYLIGHT
TZOFFSETFROM:-0500
TZOFFSETTO:-0400
TZNAME:EDT
DTSTART:20260308T070000
END:DAYLIGHT
BEGIN:STANDARD
TZOFFSETFROM:-0400
TZOFFSETTO:-0500
TZNAME:EST
DTSTART:20261101T060000
END:STANDARD
END:VTIMEZONE
BEGIN:VEVENT
DTSTART;TZID=America/New_York:20260401T140000
DTEND;TZID=America/New_York:20260401T160000
DTSTAMP:20260422T084426
CREATED:20220128T202418Z
LAST-MODIFIED:20260330T190943Z
UID:5642-1775052000-1775059200@libertyhall.kean.edu
SUMMARY:Opening Day Open House at Liberty Hall!
DESCRIPTION:America is celebrating its 250th birthday\, and Liberty Hall is offering free admission for Main House tours. \nLight refreshments to follow. Reservations required.
URL:https://libertyhall.kean.edu/events-and-performances/opening-day-open-house-at-liberty-hall/
LOCATION:Liberty Hall Museum\, 1003 Morris Ave.\, Union\, NJ\, 07083\, United States
CATEGORIES:All Ages
ATTACH;FMTTYPE=image/png:https://libertyhall.kean.edu/wp-content/uploads/2022/01/Opening-Day-2160-×-1080-px-1200-x-420-px-1.png
END:VEVENT
BEGIN:VEVENT
DTSTART;TZID=America/New_York:20260404T100000
DTEND;TZID=America/New_York:20260404T113000
DTSTAMP:20260422T084426
CREATED:20220221T195238Z
LAST-MODIFIED:20260305T211806Z
UID:5745-1775296800-1775302200@libertyhall.kean.edu
SUMMARY:Annual Easter Egg Hunt!
DESCRIPTION:Children will explore the grounds of Liberty Hall\, searching for plastic eggs filled with holiday treats hidden throughout the landscape! Fun games\, craft\, and food vendors will make the day even greater! A surprise visit from the Easter Bunny caps off the event. \nThis event is Rain or Shine! Space is limited to 100 children per session. Reservations required.
URL:https://libertyhall.kean.edu/events-and-performances/annual-easter-egg-hunt-7/
LOCATION:Liberty Hall Museum\, 1003 Morris Ave.\, Union\, NJ\, 07083\, United States
CATEGORIES:For Children
ATTACH;FMTTYPE=image/png:https://libertyhall.kean.edu/wp-content/uploads/2022/02/Copy-of-Easter-Egg-Hunt2160-×-1080-px-1200-×-420-px.png
END:VEVENT
BEGIN:VEVENT
DTSTART;TZID=America/New_York:20260404T120000
DTEND;TZID=America/New_York:20260404T133000
DTSTAMP:20260422T084426
CREATED:20220221T195559Z
LAST-MODIFIED:20260331T165454Z
UID:5747-1775304000-1775309400@libertyhall.kean.edu
SUMMARY:SOLD OUT: Annual Easter Egg Hunt!
DESCRIPTION:**This session of Easter Egg Hunt is SOLD OUT!** \nChildren will explore the grounds of Liberty Hall\, searching for plastic eggs filled with holiday treats hidden throughout the landscape! Fun games\, craft\, and food vendors will make the day even greater! A surprise visit from the Easter Bunny caps off the event. \nThis event is Rain or Shine! Space is limited to 100 children per session. Reservations required.
URL:https://libertyhall.kean.edu/events-and-performances/annual-easter-egg-hunt-8/
LOCATION:Liberty Hall Museum\, 1003 Morris Ave.\, Union\, NJ\, 07083\, United States
CATEGORIES:For Children
ATTACH;FMTTYPE=image/png:https://libertyhall.kean.edu/wp-content/uploads/2022/02/Copy-of-Easter-Egg-Hunt2160-×-1080-px-1200-×-420-px.png
END:VEVENT
BEGIN:VEVENT
DTSTART;TZID=America/New_York:20260406T190000
DTEND;TZID=America/New_York:20260406T200000
DTSTAMP:20260422T084426
CREATED:20260325T141108Z
LAST-MODIFIED:20260325T141108Z
UID:10794-1775502000-1775505600@libertyhall.kean.edu
SUMMARY:Membership Mondays: Architecture Tour
DESCRIPTION:Have you ever wanted to know more about the architecture of Liberty Hall? Who designed Liberty Hall? Liberty Hall has witnessed over 250 years of American and New Jersey history. Over that time\, the main house has undergone many changes\, from its original 14-room building to the current 50-room structure. How did the architecture of the building make it a more comfortable place to live? Join us for a special architecture tour that discusses the many changes to the main house and the architectural styles of the time. \nReservations required. Members-only tour. \nNot a member? Please click on the Membership tab on our website\, libertyhall.kean.edu\, and see how you can become one!
URL:https://libertyhall.kean.edu/events-and-performances/membership-mondays-architecture-tour/
LOCATION:Liberty Hall Museum\, 1003 Morris Ave.\, Union\, NJ\, 07083\, United States
CATEGORIES:Members
ATTACH;FMTTYPE=image/png:https://libertyhall.kean.edu/wp-content/uploads/2026/03/Member-Mondays-Eventbrite-Banner-April-1200-x-420-px.png
END:VEVENT
BEGIN:VEVENT
DTSTART;TZID=America/New_York:20260411T140000
DTEND;TZID=America/New_York:20260411T160000
DTSTAMP:20260422T084426
CREATED:20260220T161047Z
LAST-MODIFIED:20260220T173953Z
UID:10440-1775916000-1775923200@libertyhall.kean.edu
SUMMARY:Come Build Union at Union High School!
DESCRIPTION:Work with Stephen W. Schwartz of Building Blocks Workshops to visualize the Township of Union as you’ve never seen it before. Using thousands of LEGO building blocks at your disposal\, teams will learn basic architectural principles to recreate specific buildings in Union\, such as Town Hall\, the Caldwell Parsonage\, Liberty Hall Museum\, the Union Public Library\, and heritage houses. You’ll be assigned a favorite local structure to construct and work together to create a scale model. At the end of the session\, the teams will place their buildings on a large-scale map (please note: you do not get to keep the LEGO creations). Co-presented with the Township of Union’s 250th Anniversary Committee in conjunction with Building Blocks Workshops. \n$25/per team. Each group needs at least 1 adult and no more than 3 children. Team of 4 Max. \nRegistration Required\, per team. \nThis event takes place in the Union High School Gym. Click here to register (click on Township Events)! \n 
URL:https://libertyhall.kean.edu/events-and-performances/come-build-union/
LOCATION:Union High School\, 2350 N. 3rd Street.\, Union\, NJ\, 07083\, United States
CATEGORIES:Family
ATTACH;FMTTYPE=image/png:https://libertyhall.kean.edu/wp-content/uploads/2026/02/Build-Union.png
END:VEVENT
BEGIN:VEVENT
DTSTART;TZID=America/New_York:20260417T150000
DTEND;TZID=America/New_York:20260417T170000
DTSTAMP:20260422T084426
CREATED:20260210T184133Z
LAST-MODIFIED:20260210T184133Z
UID:10386-1776438000-1776445200@libertyhall.kean.edu
SUMMARY:First Oval Office Project: Tent Set Up/Breakdown
DESCRIPTION:In partnership with the Museum of the American Revolution\, Liberty Hall Museum is proud to host the hand-sewn reproduction tent used by General George Washington during the American Revolution. Set up the Oval Office Tent on Friday afternoon\, or join us on Sunday evening after the weekend festivities to help with the Breakdown of the Oval Office Tent. \nBe sure to check out Liberty Hall Museum’s website for tickets and a full itinerary of the weekend’s festivities. \nIf you are interested in seeing General George Washington’s original sleeping and office tent from the Revolutionary War is on permanent display at the Museum of the American Revolution in historic Philadelphia. \nLight refreshments served. \nReservations are suggested. Walk-ins welcome.
URL:https://libertyhall.kean.edu/events-and-performances/first-oval-office-project-tent-set-up-breakdown/
LOCATION:Liberty Hall Museum\, 1003 Morris Ave.\, Union\, NJ\, 07083\, United States
CATEGORIES:All Ages
ATTACH;FMTTYPE=image/png:https://libertyhall.kean.edu/wp-content/uploads/2026/02/oval-office-eventbrite-banner-2160-x-1080-px-1200-x-420-px.png
END:VEVENT
BEGIN:VEVENT
DTSTART;TZID=America/New_York:20260418T100000
DTEND;TZID=America/New_York:20260418T160000
DTSTAMP:20260422T084426
CREATED:20260210T185313Z
LAST-MODIFIED:20260414T142715Z
UID:10390-1776506400-1776528000@libertyhall.kean.edu
SUMMARY:First Oval Office Project Weekend!
DESCRIPTION:Join us for a festive weekend! In partnership with the Museum of the American Revolution\, Liberty Hall is proud to host the hand-sewn reproduction of the sleeping and office tent used by General George Washington during the American Revolution. The weekend is filled with reenactors\, crafts\, lectures\, a historical figure costume contest\, a historical monument design competition\, opportunities to interact with other local historic sites\, games\, and more! \nIf you are interested in seeing General George Washington’s original sleeping and office tent from the Revolutionary War\, it is on permanent display at the Museum of the American Revolution in historic Philadelphia. \nRecommended for all ages. Reservations are suggested; walk-ins welcome.
URL:https://libertyhall.kean.edu/events-and-performances/first-oval-office-project-weekend/
LOCATION:Liberty Hall Museum\, 1003 Morris Ave.\, Union\, NJ\, 07083\, United States
ATTACH;FMTTYPE=image/png:https://libertyhall.kean.edu/wp-content/uploads/2026/02/Oval-Office-Project-Weekend-eventbrite-banner-2160-x-1080-px-1200-x-420-px.png
END:VEVENT
BEGIN:VEVENT
DTSTART;TZID=America/New_York:20260419T100000
DTEND;TZID=America/New_York:20260419T160000
DTSTAMP:20260422T084426
CREATED:20260210T185313Z
LAST-MODIFIED:20260414T142519Z
UID:10392-1776592800-1776614400@libertyhall.kean.edu
SUMMARY:First Oval Office Project Weekend!
DESCRIPTION:Join us for a festive weekend! In partnership with the Museum of the American Revolution\, Liberty Hall is proud to host the hand-sewn reproduction of the sleeping and office tent used by General George Washington during the American Revolution. The weekend is filled with reenactors\, crafts\, lectures\, a historical figure costume contest\, a historical monument design competition\, opportunities to interact with other local historic sites\, games\, and more! \nIf you are interested in seeing General George Washington’s original sleeping and office tent from the Revolutionary War\, it is on permanent display at the Museum of the American Revolution in historic Philadelphia. \nRecommended for all ages. Reservations are suggested; walk-ins welcome.
URL:https://libertyhall.kean.edu/events-and-performances/first-oval-office-project-weekend-2026-04-19/
LOCATION:Liberty Hall Museum\, 1003 Morris Ave.\, Union\, NJ\, 07083\, United States
ATTACH;FMTTYPE=image/png:https://libertyhall.kean.edu/wp-content/uploads/2026/02/Oval-Office-Project-Weekend-eventbrite-banner-2160-x-1080-px-1200-x-420-px.png
END:VEVENT
BEGIN:VEVENT
DTSTART;TZID=America/New_York:20260419T160000
DTEND;TZID=America/New_York:20260419T170000
DTSTAMP:20260422T084426
CREATED:20260210T184133Z
LAST-MODIFIED:20260210T184133Z
UID:10388-1776614400-1776618000@libertyhall.kean.edu
SUMMARY:First Oval Office Project: Tent Set Up/Breakdown
DESCRIPTION:In partnership with the Museum of the American Revolution\, Liberty Hall Museum is proud to host the hand-sewn reproduction tent used by General George Washington during the American Revolution. Set up the Oval Office Tent on Friday afternoon\, or join us on Sunday evening after the weekend festivities to help with the Breakdown of the Oval Office Tent. \nBe sure to check out Liberty Hall Museum’s website for tickets and a full itinerary of the weekend’s festivities. \nIf you are interested in seeing General George Washington’s original sleeping and office tent from the Revolutionary War is on permanent display at the Museum of the American Revolution in historic Philadelphia. \nLight refreshments served. \nReservations are suggested. Walk-ins welcome.
URL:https://libertyhall.kean.edu/events-and-performances/first-oval-office-project-tent-set-up-breakdown/2026-04-19/
LOCATION:Liberty Hall Museum\, 1003 Morris Ave.\, Union\, NJ\, 07083\, United States
CATEGORIES:All Ages
ATTACH;FMTTYPE=image/png:https://libertyhall.kean.edu/wp-content/uploads/2026/02/oval-office-eventbrite-banner-2160-x-1080-px-1200-x-420-px.png
END:VEVENT
BEGIN:VEVENT
DTSTART;VALUE=DATE:20260422
DTEND;VALUE=DATE:20260423
DTSTAMP:20260422T084426
CREATED:20260416T164818Z
LAST-MODIFIED:20260416T164818Z
UID:10880-1776816000-1776902399@libertyhall.kean.edu
SUMMARY:
DESCRIPTION:Rare. Historic. Yours to Grow. \n1770: Susan Livingston\, the daughter of New Jersey’s first elected governor\, William Livingston\, plants a Horse Chestnut Tree in front of Liberty Hall. \n1774: Completion of Liberty Hall \n1776: The Revolution \n2026: This Horse Chestnut still stands and is rooted in over 250 years of historical legacy. \nYou can continue the legacy by planting a sapling of the Heritage Horse Chestnut right in your own backyard\, because this isn’t just history you visit- it’s history you can own. \nSaplings will be available to purchase from April 22 to April 26 at a special seasonal price of $50. Once your tree is purchased\, a museum representative will call or email you with pickup information.
URL:https://libertyhall.kean.edu/events-and-performances/10880/
LOCATION:Liberty Hall Museum\, 1003 Morris Ave.\, Union\, NJ\, 07083\, United States
CATEGORIES:All Ages
ATTACH;FMTTYPE=image/png:https://libertyhall.kean.edu/wp-content/uploads/2026/04/Horse-Chestnut-2160-x-1080-px-1200-x-420-px.png
END:VEVENT
BEGIN:VEVENT
DTSTART;TZID=America/New_York:20260422T143000
DTEND;TZID=America/New_York:20260422T153000
DTSTAMP:20260422T084426
CREATED:20260409T203707Z
LAST-MODIFIED:20260410T204056Z
UID:10817-1776868200-1776871800@libertyhall.kean.edu
SUMMARY:Liberty Tree Planting Ceremony
DESCRIPTION:Happy Earth Day! Join Liberty Hall in collaboration with the Sons of the American Revolution as we celebrate Earth Day and America’s 250th by planting a commemorative Liberty Tree on our historic grounds. This special Princeton Elm will represent the original “Tree of Liberty\,” a powerful symbol of American independence\, originating from a Boston elm where colonists protested British rule in 1765\, and will serve as the symbol of America’s Revolutionary spirit that launched a nation. After the planting and plaque ceremony\, guests will have the option to join a guided garden tour. \nYou can continue the legacy by planting a sapling of the Heritage Horse Chestnut right in your own backyard\, because this isn’t just history you visit – it’s history you can own. For a limited time\, these saplings will be available for purchase for a special season price of $25 from Earth Day\, April 22\, through Sunday\, April 26th. \nReservations suggested.
URL:https://libertyhall.kean.edu/events-and-performances/liberty-tree-planting-ceremony/
LOCATION:Liberty Hall Museum\, 1003 Morris Ave.\, Union\, NJ\, 07083\, United States
CATEGORIES:All Ages
ATTACH;FMTTYPE=image/png:https://libertyhall.kean.edu/wp-content/uploads/2026/04/Copy-of-Liberty-Tree-2160-x-1080-px-1200-x-420-px.png
END:VEVENT
BEGIN:VEVENT
DTSTART;VALUE=DATE:20260423
DTEND;VALUE=DATE:20260424
DTSTAMP:20260422T084426
CREATED:20260416T164818Z
LAST-MODIFIED:20260416T164818Z
UID:10882-1776902400-1776988799@libertyhall.kean.edu
SUMMARY:
DESCRIPTION:Rare. Historic. Yours to Grow. \n1770: Susan Livingston\, the daughter of New Jersey’s first elected governor\, William Livingston\, plants a Horse Chestnut Tree in front of Liberty Hall. \n1774: Completion of Liberty Hall \n1776: The Revolution \n2026: This Horse Chestnut still stands and is rooted in over 250 years of historical legacy. \nYou can continue the legacy by planting a sapling of the Heritage Horse Chestnut right in your own backyard\, because this isn’t just history you visit- it’s history you can own. \nSaplings will be available to purchase from April 22 to April 26 at a special seasonal price of $50. Once your tree is purchased\, a museum representative will call or email you with pickup information.
URL:https://libertyhall.kean.edu/events-and-performances/10880/2026-04-23/
LOCATION:Liberty Hall Museum\, 1003 Morris Ave.\, Union\, NJ\, 07083\, United States
CATEGORIES:All Ages
ATTACH;FMTTYPE=image/png:https://libertyhall.kean.edu/wp-content/uploads/2026/04/Horse-Chestnut-2160-x-1080-px-1200-x-420-px.png
END:VEVENT
BEGIN:VEVENT
DTSTART;VALUE=DATE:20260424
DTEND;VALUE=DATE:20260425
DTSTAMP:20260422T084426
CREATED:20260416T164818Z
LAST-MODIFIED:20260416T164818Z
UID:10883-1776988800-1777075199@libertyhall.kean.edu
SUMMARY:
DESCRIPTION:Rare. Historic. Yours to Grow. \n1770: Susan Livingston\, the daughter of New Jersey’s first elected governor\, William Livingston\, plants a Horse Chestnut Tree in front of Liberty Hall. \n1774: Completion of Liberty Hall \n1776: The Revolution \n2026: This Horse Chestnut still stands and is rooted in over 250 years of historical legacy. \nYou can continue the legacy by planting a sapling of the Heritage Horse Chestnut right in your own backyard\, because this isn’t just history you visit- it’s history you can own. \nSaplings will be available to purchase from April 22 to April 26 at a special seasonal price of $50. Once your tree is purchased\, a museum representative will call or email you with pickup information.
URL:https://libertyhall.kean.edu/events-and-performances/10880/2026-04-24/
LOCATION:Liberty Hall Museum\, 1003 Morris Ave.\, Union\, NJ\, 07083\, United States
CATEGORIES:All Ages
ATTACH;FMTTYPE=image/png:https://libertyhall.kean.edu/wp-content/uploads/2026/04/Horse-Chestnut-2160-x-1080-px-1200-x-420-px.png
END:VEVENT
BEGIN:VEVENT
DTSTART;TZID=America/New_York:20260424T140000
DTEND;TZID=America/New_York:20260424T150000
DTSTAMP:20260422T084426
CREATED:20220225T201510Z
LAST-MODIFIED:20260409T204647Z
UID:5787-1777039200-1777042800@libertyhall.kean.edu
SUMMARY:Arbor Day Tours
DESCRIPTION:Come celebrate Arbor Day with us on a special guided tour of the garden/arboretum! Come learn the history of our historic gardens. Discover how each generation of residents added to the exquisite planting schemes William Livingston had laid out\, and a truly unique garden took shape\, making Liberty Hall a living archive of over 250 years of American garden and arboretum design.\nOur historic Horse Chestnut saplings will be on sale for $25 and are available for you to plant at home\, keeping the Arbor Day Foundation’s efforts alive! \nReservations required; space is limited.
URL:https://libertyhall.kean.edu/events-and-performances/arbor-day-tours/
LOCATION:Liberty Hall Museum\, 1003 Morris Ave.\, Union\, NJ\, 07083\, United States
CATEGORIES:All Ages
ATTACH;FMTTYPE=image/png:https://libertyhall.kean.edu/wp-content/uploads/2022/02/Arbor-Day-Tours-2023-2160-×-1080-px-1200-×-420-px.png
END:VEVENT
BEGIN:VEVENT
DTSTART;VALUE=DATE:20260425
DTEND;VALUE=DATE:20260426
DTSTAMP:20260422T084426
CREATED:20260416T164818Z
LAST-MODIFIED:20260416T164818Z
UID:10884-1777075200-1777161599@libertyhall.kean.edu
SUMMARY:
DESCRIPTION:Rare. Historic. Yours to Grow. \n1770: Susan Livingston\, the daughter of New Jersey’s first elected governor\, William Livingston\, plants a Horse Chestnut Tree in front of Liberty Hall. \n1774: Completion of Liberty Hall \n1776: The Revolution \n2026: This Horse Chestnut still stands and is rooted in over 250 years of historical legacy. \nYou can continue the legacy by planting a sapling of the Heritage Horse Chestnut right in your own backyard\, because this isn’t just history you visit- it’s history you can own. \nSaplings will be available to purchase from April 22 to April 26 at a special seasonal price of $50. Once your tree is purchased\, a museum representative will call or email you with pickup information.
URL:https://libertyhall.kean.edu/events-and-performances/10880/2026-04-25/
LOCATION:Liberty Hall Museum\, 1003 Morris Ave.\, Union\, NJ\, 07083\, United States
CATEGORIES:All Ages
ATTACH;FMTTYPE=image/png:https://libertyhall.kean.edu/wp-content/uploads/2026/04/Horse-Chestnut-2160-x-1080-px-1200-x-420-px.png
END:VEVENT
BEGIN:VEVENT
DTSTART;VALUE=DATE:20260426
DTEND;VALUE=DATE:20260427
DTSTAMP:20260422T084426
CREATED:20260416T164818Z
LAST-MODIFIED:20260416T164818Z
UID:10885-1777161600-1777247999@libertyhall.kean.edu
SUMMARY:
DESCRIPTION:Rare. Historic. Yours to Grow. \n1770: Susan Livingston\, the daughter of New Jersey’s first elected governor\, William Livingston\, plants a Horse Chestnut Tree in front of Liberty Hall. \n1774: Completion of Liberty Hall \n1776: The Revolution \n2026: This Horse Chestnut still stands and is rooted in over 250 years of historical legacy. \nYou can continue the legacy by planting a sapling of the Heritage Horse Chestnut right in your own backyard\, because this isn’t just history you visit- it’s history you can own. \nSaplings will be available to purchase from April 22 to April 26 at a special seasonal price of $50. Once your tree is purchased\, a museum representative will call or email you with pickup information.
URL:https://libertyhall.kean.edu/events-and-performances/10880/2026-04-26/
LOCATION:Liberty Hall Museum\, 1003 Morris Ave.\, Union\, NJ\, 07083\, United States
CATEGORIES:All Ages
ATTACH;FMTTYPE=image/png:https://libertyhall.kean.edu/wp-content/uploads/2026/04/Horse-Chestnut-2160-x-1080-px-1200-x-420-px.png
END:VEVENT
BEGIN:VEVENT
DTSTART;TZID=America/New_York:20260429T190000
DTEND;TZID=America/New_York:20260429T210000
DTSTAMP:20260422T084426
CREATED:20230323T213813Z
LAST-MODIFIED:20260325T140454Z
UID:6300-1777489200-1777496400@libertyhall.kean.edu
SUMMARY:Wednesday Night at the Museum: Art-Full April!
DESCRIPTION:Do you enjoy the artwork displayed at the museum? Join us for Liberty Hall’s series\, Wednesday Night at the Museum\, for a paint-and-sip event where you can create your own artwork! Liberty Hall staff\, including our artist in residence\, will lead the art class as you and your friends paint\, snack\, socialize\, and sip on a glass or two of our signature drink. A display of rarely seen artwork from the Liberty Hall collection will also be on exhibit at the Art-full Night at the Museum. \nAll materials will be provided. Must be 21 years or older—reservations required.
URL:https://libertyhall.kean.edu/events-and-performances/wednesday-night-at-the-museum-art-full-april/
LOCATION:Liberty Hall Museum\, 1003 Morris Ave.\, Union\, NJ\, 07083\, United States
CATEGORIES:For Adults
ATTACH;FMTTYPE=image/png:https://libertyhall.kean.edu/wp-content/uploads/2022/12/Wednesday-Night-2160-×-1080-px-1200-×-420-px.png
END:VEVENT
END:VCALENDAR